BEGIN:VCALENDAR
VERSION:2.0
PRODID:-//ZContent.net//ZapCalLib 1.0//EN
CALSCALE:GREGORIAN
METHOD:PUBLISH
BEGIN:VEVENT
SUMMARY:BÖLL-Montagskino „Joy in Iran“
DTSTART:20190225T190000
DTEND:20190225T210000
UID:2026-04-25-13-35-52-0-@calendar.boell.de
DTSTAMP:20260425T113552
DESCRIPTION:Heinrich-Böll-Stiftung Mecklenburg-Vorpommern – Rostock – 
 Landesstiftung Mecklenburg-Vorpommern
END:VEVENT
END:VCALENDAR
