BEGIN:VCALENDAR
VERSION:2.0
PRODID:-//ZContent.net//ZapCalLib 1.0//EN
CALSCALE:GREGORIAN
METHOD:PUBLISH
BEGIN:VEVENT
SUMMARY:Flammende Köpfe | Video-Lecture-Performance von und mit Arne Vogel
 gesang
DTSTART:20190319T180000
DTEND:20190319T200000
UID:2026-04-25-23-41-39-0-@calendar.boell.de
DTSTAMP:20260425T214139
DESCRIPTION:▶ Siehe Veranstaltungsbeschreibung – Rostock – Landesstif
 tung Mecklenburg-Vorpommern
END:VEVENT
END:VCALENDAR
