BEGIN:VCALENDAR
VERSION:2.0
PRODID:-//ZContent.net//ZapCalLib 1.0//EN
CALSCALE:GREGORIAN
METHOD:PUBLISH
BEGIN:VEVENT
SUMMARY:Handlungsfähig werden! Sexismus und Antifeminismus widersprechen
DTSTART:20190413T110000
DTEND:20190413T180000
UID:2026-04-26-04-41-02-0-@calendar.boell.de
DTSTAMP:20260426T024102
DESCRIPTION:▶ Siehe Veranstaltungsbeschreibung – Berlin – Landesstift
 ung Berlin (Bildungswerk)
END:VEVENT
END:VCALENDAR
