BEGIN:VCALENDAR
VERSION:2.0
PRODID:-//ZContent.net//ZapCalLib 1.0//EN
CALSCALE:GREGORIAN
METHOD:PUBLISH
BEGIN:VEVENT
SUMMARY:MutterTochter - Biographieworkshop für Frauen*
DTSTART:20190405T180000
DTEND:20190407T170000
UID:2026-04-25-06-20-19-0-@calendar.boell.de
DTSTAMP:20260425T042019
DESCRIPTION:▶ Siehe Veranstaltungsbeschreibung – Landesstiftung Berlin 
 (Bildungswerk)
END:VEVENT
END:VCALENDAR
