BEGIN:VCALENDAR
VERSION:2.0
PRODID:-//ZContent.net//ZapCalLib 1.0//EN
CALSCALE:GREGORIAN
METHOD:PUBLISH
BEGIN:VEVENT
SUMMARY:Der Europäische Acker - zwischen Geld, Gülle und Gewissen | Die E
 uropäische Union in Celle
DTSTART:20190124T190000
DTEND:20190124T210000
UID:2026-04-25-13-27-03-0-@calendar.boell.de
DTSTAMP:20260425T112703
DESCRIPTION:▶ Siehe Veranstaltungsbeschreibung – Celle – Stiftung Leb
 en & Umwelt / Heinrich-Böll-Stiftung Niedersachsen
END:VEVENT
END:VCALENDAR
