BEGIN:VCALENDAR
VERSION:2.0
PRODID:-//ZContent.net//ZapCalLib 1.0//EN
CALSCALE:GREGORIAN
METHOD:PUBLISH
BEGIN:VEVENT
SUMMARY:Nach den Rechten sehen: Andrea Röpke
DTSTART:20190121T193000
DTEND:20190121T213000
UID:2026-04-25-18-19-57-0-@calendar.boell.de
DTSTAMP:20260425T161957
DESCRIPTION:Bremen – Landesstiftung Bremen
END:VEVENT
END:VCALENDAR
