BEGIN:VCALENDAR
VERSION:2.0
PRODID:-//ZContent.net//ZapCalLib 1.0//EN
CALSCALE:GREGORIAN
METHOD:PUBLISH
BEGIN:VEVENT
SUMMARY:Landwirtschaft Anders: Gentechnik - Alles neu? | Unsere Grüne Woch
 e 2019
DTSTART:20190114T190000
DTEND:20190114T210000
UID:2026-04-26-04-41-02-0-@calendar.boell.de
DTSTAMP:20260426T024102
DESCRIPTION:Heinrich-Böll-Stiftung - Bundesstiftung Berlin – Berlin – 
 Heinrich-Böll-Stiftung - Bundesstiftung Berlin
END:VEVENT
END:VCALENDAR
