BEGIN:VCALENDAR
VERSION:2.0
PRODID:-//ZContent.net//ZapCalLib 1.0//EN
CALSCALE:GREGORIAN
METHOD:PUBLISH
BEGIN:VEVENT
SUMMARY:Politiken der Überwachung | Vortrag und Gespräch mit Laura Fichtn
 er, moderiert von Kübra Gümüşay
DTSTART:20190227T190000
DTEND:20190227T210000
UID:2026-04-25-04-17-58-0-@calendar.boell.de
DTSTAMP:20260425T021758
DESCRIPTION:▶ Siehe Veranstaltungsbeschreibung – Hamburg – Landesstif
 tung Hamburg
END:VEVENT
END:VCALENDAR
