BEGIN:VCALENDAR
VERSION:2.0
PRODID:-//ZContent.net//ZapCalLib 1.0//EN
CALSCALE:GREGORIAN
METHOD:PUBLISH
BEGIN:VEVENT
SUMMARY:Körper – Daten – Diskriminierung, Body - Data - Discrimination
  | Vortrag und Gespräch mit Maya Indira Ganesh, moderiert von Kübra Güm
 üşay
DTSTART:20190116T190000
DTEND:20190116T210000
UID:2026-04-25-23-40-37-0-@calendar.boell.de
DTSTAMP:20260425T214037
DESCRIPTION:▶ Siehe Veranstaltungsbeschreibung – Hamburg – Landesstif
 tung Hamburg
END:VEVENT
END:VCALENDAR
