BEGIN:VCALENDAR
VERSION:2.0
PRODID:-//ZContent.net//ZapCalLib 1.0//EN
CALSCALE:GREGORIAN
METHOD:PUBLISH
BEGIN:VEVENT
SUMMARY:Dialog auf AugenhĂ¶he? Lasst uns dran bleiben! | Selbstreflexion fĂ
 Ľr UnterstĂĽtzer*innen von GeflĂĽchteten
DTSTART:20190315T170000
DTEND:20190317T160000
UID:2026-04-25-01-36-49-0-@calendar.boell.de
DTSTAMP:20260424T233649
DESCRIPTION:â–¶ Siehe Veranstaltungsbeschreibung â€“ Berlin â€“ Landesstift
 ung Berlin (Bildungswerk)
END:VEVENT
END:VCALENDAR
