BEGIN:VCALENDAR
VERSION:2.0
PRODID:-//ZContent.net//ZapCalLib 1.0//EN
CALSCALE:GREGORIAN
METHOD:PUBLISH
BEGIN:VEVENT
SUMMARY:"Wer bist du dass du sprichst?" Die Rechtsanwältin Eren Keskin | R
 eihe mit Filmen zu Frauen- und LGBTIQ-Rechten in der Türkei
DTSTART:20190306T190000
DTEND:20190306T203000
UID:2026-04-25-06-20-17-0-@calendar.boell.de
DTSTAMP:20260425T042017
DESCRIPTION:▶ Siehe Veranstaltungsbeschreibung – Berlin – Landesstift
 ung Berlin (Bildungswerk)
END:VEVENT
END:VCALENDAR
