BEGIN:VCALENDAR
VERSION:2.0
PRODID:-//ZContent.net//ZapCalLib 1.0//EN
CALSCALE:GREGORIAN
METHOD:PUBLISH
BEGIN:VEVENT
SUMMARY:"Wer bist du dass du sprichst?" Sexualisierte Gewalt gegen Frauen* 
 | Reihe mit Filmen zu Frauen- und LGBTIQ-Rechten in der Türkei
DTSTART:20190220T190000
DTEND:20190220T203000
UID:2026-04-25-23-41-37-0-@calendar.boell.de
DTSTAMP:20260425T214137
DESCRIPTION:▶ Siehe Veranstaltungsbeschreibung – Berlin – Landesstift
 ung Berlin (Bildungswerk)
END:VEVENT
END:VCALENDAR
