BEGIN:VCALENDAR
VERSION:2.0
PRODID:-//ZContent.net//ZapCalLib 1.0//EN
CALSCALE:GREGORIAN
METHOD:PUBLISH
BEGIN:VEVENT
SUMMARY:Information und Orientierung jenseits der Filterblase?!  | Europäi
 sche Zeitungen zwischen Digitalisierungsdruck, Fake News und politischer E
 influssnahme
DTSTART:20190223T091500
DTEND:20190223T180000
UID:2026-04-24-21-12-27-0-@calendar.boell.de
DTSTAMP:20260424T191227
DESCRIPTION:▶ Siehe Veranstaltungsbeschreibung – Stuttgart – 
END:VEVENT
END:VCALENDAR
