BEGIN:VCALENDAR
VERSION:2.0
PRODID:-//ZContent.net//ZapCalLib 1.0//EN
CALSCALE:GREGORIAN
METHOD:PUBLISH
BEGIN:VEVENT
SUMMARY:Argumentationstraining | Das richtige Wort zur richtigen Zeit
DTSTART:20190405T170000
DTEND:20190406T180000
UID:2026-04-24-11-49-04-0-@calendar.boell.de
DTSTAMP:20260424T094904
DESCRIPTION:▶ Siehe Veranstaltungsbeschreibung – Düsseldorf – Landes
 stiftung Nordrhein-Westfalen
END:VEVENT
END:VCALENDAR
