BEGIN:VCALENDAR
VERSION:2.0
PRODID:-//ZContent.net//ZapCalLib 1.0//EN
CALSCALE:GREGORIAN
METHOD:PUBLISH
BEGIN:VEVENT
SUMMARY:Kampagnen & Werbung in Facebook gestalten | Zielgruppen erkennen un
 d erreichen
DTSTART:20190301T180000
DTEND:20190302T180000
UID:2026-04-25-12-34-36-0-@calendar.boell.de
DTSTAMP:20260425T103436
DESCRIPTION:▶ Siehe Veranstaltungsbeschreibung – Wuppertal – Landesst
 iftung Nordrhein-Westfalen
END:VEVENT
END:VCALENDAR
