BEGIN:VCALENDAR
VERSION:2.0
PRODID:-//ZContent.net//ZapCalLib 1.0//EN
CALSCALE:GREGORIAN
METHOD:PUBLISH
BEGIN:VEVENT
SUMMARY:Wie beeinflusst Deutschland die Politik der Weltbank? | Einführung
  in die Weltbank und ihre Steuerung durch die Mitgliedsländer
DTSTART:20190302T100000
DTEND:20190302T170000
UID:2026-04-25-12-35-01-0-@calendar.boell.de
DTSTAMP:20260425T103501
DESCRIPTION:▶ Siehe Veranstaltungsbeschreibung – Berlin – Landesstift
 ung Berlin (Bildungswerk)
END:VEVENT
END:VCALENDAR
