BEGIN:VCALENDAR
VERSION:2.0
PRODID:-//ZContent.net//ZapCalLib 1.0//EN
CALSCALE:GREGORIAN
METHOD:PUBLISH
BEGIN:VEVENT
SUMMARY:Workshop Reden schreiben, die andere halten | für Mitglieder von B
 ündnis 90/Die Grünen im Bayerischen Landtag
DTSTART:20181218T090000
DTEND:20181219T170000
UID:2026-04-25-13-36-22-0-@calendar.boell.de
DTSTAMP:20260425T113622
DESCRIPTION:München – 
END:VEVENT
END:VCALENDAR
