BEGIN:VCALENDAR
VERSION:2.0
PRODID:-//ZContent.net//ZapCalLib 1.0//EN
CALSCALE:GREGORIAN
METHOD:PUBLISH
BEGIN:VEVENT
SUMMARY:Thüringen in kleinen Schritten: Lesung mit Nikolaus Huhn
DTSTART:20190110T193000
DTEND:20190110T213000
UID:2026-04-24-13-58-04-0-@calendar.boell.de
DTSTAMP:20260424T115804
DESCRIPTION:▶ Siehe Veranstaltungsbeschreibung – Landesstiftung Thürin
 gen
END:VEVENT
END:VCALENDAR
