BEGIN:VCALENDAR
VERSION:2.0
PRODID:-//ZContent.net//ZapCalLib 1.0//EN
CALSCALE:GREGORIAN
METHOD:PUBLISH
BEGIN:VEVENT
SUMMARY:Ausstellung: Keine Postkarten von der Breite der Grenze | Fotografi
 en von Francisco Conde in Velgast
DTSTART:20190107T080000
DTEND:20190201T140000
UID:2026-04-25-04-59-32-0-@calendar.boell.de
DTSTAMP:20260425T025932
DESCRIPTION:▶ Siehe Veranstaltungsbeschreibung – Landesstiftung Mecklen
 burg-Vorpommern
END:VEVENT
END:VCALENDAR
