BEGIN:VCALENDAR
VERSION:2.0
PRODID:-//ZContent.net//ZapCalLib 1.0//EN
CALSCALE:GREGORIAN
METHOD:PUBLISH
BEGIN:VEVENT
SUMMARY:Saleem Ashkar - Preludes von Bach bis Messiaen Klavierkonzert mit a
 nschließendem Gespräch | Eine Veranstaltung der Palästina Initiative Ha
 nnover
DTSTART:20181205T200000
DTEND:20181205T220000
UID:2026-04-24-11-19-41-0-@calendar.boell.de
DTSTAMP:20260424T091941
DESCRIPTION:▶ Siehe Veranstaltungsbeschreibung – Stiftung Leben & Umwel
 t / Heinrich-Böll-Stiftung Niedersachsen
END:VEVENT
END:VCALENDAR
