BEGIN:VCALENDAR
VERSION:2.0
PRODID:-//ZContent.net//ZapCalLib 1.0//EN
CALSCALE:GREGORIAN
METHOD:PUBLISH
BEGIN:VEVENT
SUMMARY:10 Jahre Kritische Wirtschaftswissenschaften - Gala | Festvortrag v
 on Heiner Flassbeck
DTSTART:20181130T183000
DTEND:20181130T210000
UID:2026-04-24-18-05-59-0-@calendar.boell.de
DTSTAMP:20260424T160559
DESCRIPTION:▶ Siehe Veranstaltungsbeschreibung – Göttingen – Stiftun
 g Leben & Umwelt / Heinrich-Böll-Stiftung Niedersachsen
END:VEVENT
END:VCALENDAR
