BEGIN:VCALENDAR
VERSION:2.0
PRODID:-//ZContent.net//ZapCalLib 1.0//EN
CALSCALE:GREGORIAN
METHOD:PUBLISH
BEGIN:VEVENT
SUMMARY:Ars Baltica Creative Dialogue
DTSTART:20181122T120000
DTEND:20181122T180000
UID:2026-04-24-13-56-53-0-@calendar.boell.de
DTSTAMP:20260424T115653
DESCRIPTION:Heinrich-Böll-Stiftung Schleswig-Holstein – Kiel – 
END:VEVENT
END:VCALENDAR
