BEGIN:VCALENDAR
VERSION:2.0
PRODID:-//ZContent.net//ZapCalLib 1.0//EN
CALSCALE:GREGORIAN
METHOD:PUBLISH
BEGIN:VEVENT
SUMMARY:ZUSAMMEN – Planspiel-Schulung | Ein Angebot für Lehrkräfte und 
 Multiplikator*innen in der außerschulischen Jugendbildung
DTSTART:20190311T100000
DTEND:20190311T160000
UID:2026-04-24-08-46-14-0-@calendar.boell.de
DTSTAMP:20260424T064614
DESCRIPTION:▶ Siehe Veranstaltungsbeschreibung – Weimar – Landesstift
 ung Thüringen
END:VEVENT
END:VCALENDAR
