BEGIN:VCALENDAR
VERSION:2.0
PRODID:-//ZContent.net//ZapCalLib 1.0//EN
CALSCALE:GREGORIAN
METHOD:PUBLISH
BEGIN:VEVENT
SUMMARY:Gesprächsabend: Frauen in der Kommunalpolitik 
DTSTART:20181213T173000
DTEND:20181213T193044
UID:2026-04-24-11-48-31-0-@calendar.boell.de
DTSTAMP:20260424T094831
DESCRIPTION:▶ Siehe Veranstaltungsbeschreibung – Erfurt – 
END:VEVENT
END:VCALENDAR
