BEGIN:VCALENDAR
VERSION:2.0
PRODID:-//ZContent.net//ZapCalLib 1.0//EN
CALSCALE:GREGORIAN
METHOD:PUBLISH
BEGIN:VEVENT
SUMMARY:Transilvania mea - von Gewinnern und Verlierern | Ein Dokumentarfil
 m von Fabian Daub mit anschließendem Gespräch
DTSTART:20190123T190000
DTEND:20190123T220000
UID:2026-04-24-21-13-07-0-@calendar.boell.de
DTSTAMP:20260424T191307
DESCRIPTION:▶ Siehe Veranstaltungsbeschreibung – Landesstiftung Berlin 
 (Bildungswerk)
END:VEVENT
END:VCALENDAR
