BEGIN:VCALENDAR
VERSION:2.0
PRODID:-//ZContent.net//ZapCalLib 1.0//EN
CALSCALE:GREGORIAN
METHOD:PUBLISH
BEGIN:VEVENT
SUMMARY:Meine Werte - Deine Werte: Was hält unsere Gesellschaft zusammen? 
 | Regionalkonferenz Niedersachsen
DTSTART:20181113T170000
DTEND:20181113T193000
UID:2026-04-25-23-39-34-0-@calendar.boell.de
DTSTAMP:20260425T213934
DESCRIPTION:▶ Siehe Veranstaltungsbeschreibung – Hannover – Stiftung 
 Leben & Umwelt / Heinrich-Böll-Stiftung Niedersachsen
END:VEVENT
END:VCALENDAR
