BEGIN:VCALENDAR
VERSION:2.0
PRODID:-//ZContent.net//ZapCalLib 1.0//EN
CALSCALE:GREGORIAN
METHOD:PUBLISH
BEGIN:VEVENT
SUMMARY:Blockchain in der Energiewirtschaft | Live-Rollenspiel / Seminar
DTSTART:20181130T163000
DTEND:20181130T190000
UID:2026-04-24-12-48-43-0-@calendar.boell.de
DTSTAMP:20260424T104843
DESCRIPTION:Heinrich-Böll-Stiftung - Bundesstiftung Berlin – Berlin – 
 Heinrich-Böll-Stiftung - Bundesstiftung Berlin
END:VEVENT
END:VCALENDAR
