BEGIN:VCALENDAR
VERSION:2.0
PRODID:-//ZContent.net//ZapCalLib 1.0//EN
CALSCALE:GREGORIAN
METHOD:PUBLISH
BEGIN:VEVENT
SUMMARY: Hidden Life, Hidden Love  | SexualitÃ¤t, sexuelle Selbstbestimmung
  und Diskriminierung in der arabischen Gesellschaft
DTSTART:20181117T170000
DTEND:20181117T183000
UID:2026-04-24-02-48-57-0-@calendar.boell.de
DTSTAMP:20260424T004857
DESCRIPTION:â–¶ Siehe Veranstaltungsbeschreibung â€“ Berlin â€“ Heinrich-BÃ
 ¶ll-Stiftung - Bundesstiftung Berlin
END:VEVENT
END:VCALENDAR
