BEGIN:VCALENDAR
VERSION:2.0
PRODID:-//ZContent.net//ZapCalLib 1.0//EN
CALSCALE:GREGORIAN
METHOD:PUBLISH
BEGIN:VEVENT
SUMMARY:Kulturaktivismus für offene Städte in der Ukraine | Podiumsdiskus
 sion der Kiewer Gespräche
DTSTART:20181113T190004
DTEND:20181113T220004
UID:2026-04-23-22-30-42-0-@calendar.boell.de
DTSTAMP:20260423T203042
DESCRIPTION:▶ Siehe Veranstaltungsbeschreibung – Chemnitz – Landessti
 ftung Sachsen (Weiterdenken)
END:VEVENT
END:VCALENDAR
