BEGIN:VCALENDAR
VERSION:2.0
PRODID:-//ZContent.net//ZapCalLib 1.0//EN
CALSCALE:GREGORIAN
METHOD:PUBLISH
BEGIN:VEVENT
SUMMARY:Aufstand der Geschichten | Festival
DTSTART:20181103T160044
DTEND:20181110T230044
UID:2026-04-25-04-08-47-0-@calendar.boell.de
DTSTAMP:20260425T020847
DESCRIPTION:▶ Siehe Veranstaltungsbeschreibung – Chemnitz – Landessti
 ftung Sachsen (Weiterdenken)
END:VEVENT
END:VCALENDAR
