BEGIN:VCALENDAR
VERSION:2.0
PRODID:-//ZContent.net//ZapCalLib 1.0//EN
CALSCALE:GREGORIAN
METHOD:PUBLISH
BEGIN:VEVENT
SUMMARY:Körper-, Stimm- und Sprechtraining | Präsenz zeigen auf der polit
 ischen Bühne und im Ehrenamt
DTSTART:20190329T170000
DTEND:20190330T180000
UID:2026-04-26-04-41-02-0-@calendar.boell.de
DTSTAMP:20260426T024102
DESCRIPTION:Köln – Landesstiftung Nordrhein-Westfalen
END:VEVENT
END:VCALENDAR
