BEGIN:VCALENDAR
VERSION:2.0
PRODID:-//ZContent.net//ZapCalLib 1.0//EN
CALSCALE:GREGORIAN
METHOD:PUBLISH
BEGIN:VEVENT
SUMMARY:Schreiben in sozialen Medien | Wie texte ich schnell und treffend?
DTSTART:20190315T170000
DTEND:20190316T180000
UID:2026-04-24-04-35-23-0-@calendar.boell.de
DTSTAMP:20260424T023523
DESCRIPTION:Düsseldorf – Landesstiftung Nordrhein-Westfalen
END:VEVENT
END:VCALENDAR
