BEGIN:VCALENDAR
VERSION:2.0
PRODID:-//ZContent.net//ZapCalLib 1.0//EN
CALSCALE:GREGORIAN
METHOD:PUBLISH
BEGIN:VEVENT
SUMMARY:Videointerviews geben und selbst erstellen (ausgebucht/Warteliste) 
 | Fit vor der Kamera für Web und TV
DTSTART:20190222T170000
DTEND:20190223T180000
UID:2026-04-25-01-37-20-0-@calendar.boell.de
DTSTAMP:20260424T233720
DESCRIPTION:Köln – Landesstiftung Nordrhein-Westfalen
END:VEVENT
END:VCALENDAR
