BEGIN:VCALENDAR
VERSION:2.0
PRODID:-//ZContent.net//ZapCalLib 1.0//EN
CALSCALE:GREGORIAN
METHOD:PUBLISH
BEGIN:VEVENT
SUMMARY:Stammtischparolen entkräften (ausgebucht/Warteliste) | Umgang mit 
 fundamentalistischen Debattenstrategien
DTSTART:20190209T100000
DTEND:20190209T180000
UID:2026-04-24-19-11-48-0-@calendar.boell.de
DTSTAMP:20260424T171148
DESCRIPTION:Düsseldorf – Landesstiftung Nordrhein-Westfalen
END:VEVENT
END:VCALENDAR
