BEGIN:VCALENDAR
VERSION:2.0
PRODID:-//ZContent.net//ZapCalLib 1.0//EN
CALSCALE:GREGORIAN
METHOD:PUBLISH
BEGIN:VEVENT
SUMMARY:"Raus aus der Kohle?!" Energiewende Made in NRW | Podiumsdiskussion
  des LVR-Industriemuseums und der Heinrich-Böll-Stiftung NRW
DTSTART:20181207T153000
DTEND:20181207T203000
UID:2026-04-25-12-34-53-0-@calendar.boell.de
DTSTAMP:20260425T103453
DESCRIPTION:Oberhausen – Landesstiftung Nordrhein-Westfalen
END:VEVENT
END:VCALENDAR
