BEGIN:VCALENDAR
VERSION:2.0
PRODID:-//ZContent.net//ZapCalLib 1.0//EN
CALSCALE:GREGORIAN
METHOD:PUBLISH
BEGIN:VEVENT
SUMMARY:Werkstatt Männlichkeiten - von #MeToo bis Männer*arbeit
DTSTART:20181110T090000
DTEND:20181110T170000
UID:2026-04-24-20-38-08-0-@calendar.boell.de
DTSTAMP:20260424T183808
DESCRIPTION:Heinrich-Böll-Stiftung - Bundesstiftung Berlin – Berlin – 
 Gunda-Werner-Institut für Feminismus und Geschlechterdemokratie
END:VEVENT
END:VCALENDAR
