BEGIN:VCALENDAR
VERSION:2.0
PRODID:-//ZContent.net//ZapCalLib 1.0//EN
CALSCALE:GREGORIAN
METHOD:PUBLISH
BEGIN:VEVENT
SUMMARY:Barcamp Zukunftsenergien
DTSTART:20181102T190000
DTEND:20181103T160000
UID:2026-04-24-22-52-41-0-@calendar.boell.de
DTSTAMP:20260424T205241
DESCRIPTION:▶ Siehe Veranstaltungsbeschreibung – 
END:VEVENT
END:VCALENDAR
