BEGIN:VCALENDAR
VERSION:2.0
PRODID:-//ZContent.net//ZapCalLib 1.0//EN
CALSCALE:GREGORIAN
METHOD:PUBLISH
BEGIN:VEVENT
SUMMARY:GreenCampus Workshop Spezial: Mobile Reporting (Ausgebucht) | Mit d
 em Smartphone filmen lernen
DTSTART:20190318T090000
DTEND:20190319T170000
UID:2026-04-24-01-23-35-0-@calendar.boell.de
DTSTAMP:20260423T232335
DESCRIPTION:Heinrich-Böll-Stiftung - Bundesstiftung Berlin – Berlin – 
 GreenCampus
END:VEVENT
END:VCALENDAR
