BEGIN:VCALENDAR
VERSION:2.0
PRODID:-//ZContent.net//ZapCalLib 1.0//EN
CALSCALE:GREGORIAN
METHOD:PUBLISH
BEGIN:VEVENT
SUMMARY:Stalin hat uns das Herz gebrochen | Antisemitismus in der DDR und d
 ie Verfolgung jüdischer Kommunist*innen
DTSTART:20181102T190000
DTEND:20181102T210000
UID:2026-04-24-01-23-30-0-@calendar.boell.de
DTSTAMP:20260423T232330
DESCRIPTION:▶ Siehe Veranstaltungsbeschreibung – Leipzig – Landesstif
 tung Sachsen (Weiterdenken)
END:VEVENT
END:VCALENDAR
