BEGIN:VCALENDAR
VERSION:2.0
PRODID:-//ZContent.net//ZapCalLib 1.0//EN
CALSCALE:GREGORIAN
METHOD:PUBLISH
BEGIN:VEVENT
SUMMARY:Rechtspopulismus und Geschlecht
DTSTART:20181122T150000
DTEND:20181124T140000
UID:2026-04-23-15-45-48-0-@calendar.boell.de
DTSTAMP:20260423T134548
DESCRIPTION:▶ Siehe Veranstaltungsbeschreibung – Bielefeld – Externe 
 Veranstaltung
END:VEVENT
END:VCALENDAR
