BEGIN:VCALENDAR
VERSION:2.0
PRODID:-//ZContent.net//ZapCalLib 1.0//EN
CALSCALE:GREGORIAN
METHOD:PUBLISH
BEGIN:VEVENT
SUMMARY:Hannah-Arendt-Preis für politisches Denken 2018
DTSTART:20181207T180000
DTEND:20181207T210000
UID:2026-04-24-06-41-46-0-@calendar.boell.de
DTSTAMP:20260424T044146
DESCRIPTION:▶ Siehe Veranstaltungsbeschreibung – Bremen – Landesstift
 ung Bremen
END:VEVENT
BEGIN:VEVENT
SUMMARY:Hannah-Arendt-Preis für politisches Denken 2018
DTSTART:20181208T110000
DTEND:20181208T140000
UID:2026-04-24-04-41-46-1-@calendar.boell.de
DTSTAMP:20260424T044146
DESCRIPTION:▶ Siehe Veranstaltungsbeschreibung – Bremen – Landesstift
 ung Bremen
END:VEVENT
END:VCALENDAR
