BEGIN:VCALENDAR
VERSION:2.0
PRODID:-//ZContent.net//ZapCalLib 1.0//EN
CALSCALE:GREGORIAN
METHOD:PUBLISH
BEGIN:VEVENT
SUMMARY:Szenische Lesung „TRAUMA“
DTSTART:20181205T193000
DTEND:20181205T210000
UID:2026-04-24-06-18-57-0-@calendar.boell.de
DTSTAMP:20260424T041857
DESCRIPTION:Rostock – Landesstiftung Mecklenburg-Vorpommern
END:VEVENT
END:VCALENDAR
