BEGIN:VCALENDAR
VERSION:2.0
PRODID:-//ZContent.net//ZapCalLib 1.0//EN
CALSCALE:GREGORIAN
METHOD:PUBLISH
BEGIN:VEVENT
SUMMARY:Gemeinsamkeit durch Streit! Das Allgemeine in der pluralen Gesellsc
 haft | Heinz Bude im GesprÃ¤ch mit Peter Siller
DTSTART:20181126T193000
DTEND:20181126T210000
UID:2026-04-24-06-41-48-0-@calendar.boell.de
DTSTAMP:20260424T044148
DESCRIPTION:â–¶ Siehe Veranstaltungsbeschreibung â€“ Berlin â€“ Heinrich-BÃ
 ¶ll-Stiftung - Bundesstiftung Berlin
END:VEVENT
END:VCALENDAR
