BEGIN:VCALENDAR
VERSION:2.0
PRODID:-//ZContent.net//ZapCalLib 1.0//EN
CALSCALE:GREGORIAN
METHOD:PUBLISH
BEGIN:VEVENT
SUMMARY:Ausstellungseröffnung: Mitten drin draußen - Ohne Obdach in der S
 tadt
DTSTART:20181116T180000
DTEND:20181116T210000
UID:2026-04-24-21-12-01-0-@calendar.boell.de
DTSTAMP:20260424T191201
DESCRIPTION:Berlin – Landesstiftung Berlin (Bildungswerk)
END:VEVENT
END:VCALENDAR
