BEGIN:VCALENDAR
VERSION:2.0
PRODID:-//ZContent.net//ZapCalLib 1.0//EN
CALSCALE:GREGORIAN
METHOD:PUBLISH
BEGIN:VEVENT
SUMMARY:Eine Ohrfeige und ein Strauß roter Rosen: 50. Jahrestag einer Gest
 e gegen das Vergessen | Beate Klarsfeld und René Böll im Gespräch
DTSTART:20181105T193000
DTEND:20181105T213000
UID:2026-04-25-03-31-45-0-@calendar.boell.de
DTSTAMP:20260425T013145
DESCRIPTION:▶ Siehe Veranstaltungsbeschreibung – Paris – Heinrich-Bö
 ll-Stiftung Paris - Frankreich | Italien
END:VEVENT
END:VCALENDAR
