BEGIN:VCALENDAR
VERSION:2.0
PRODID:-//ZContent.net//ZapCalLib 1.0//EN
CALSCALE:GREGORIAN
METHOD:PUBLISH
BEGIN:VEVENT
SUMMARY:Europas Medien unter Druck  | Warum die Freiheit der Presse wichtig
 er ist denn je!
DTSTART:20181119T190000
DTEND:20181119T210000
UID:2026-04-24-12-27-00-0-@calendar.boell.de
DTSTAMP:20260424T102700
DESCRIPTION:▶ Siehe Veranstaltungsbeschreibung – Landesstiftung Hamburg
END:VEVENT
END:VCALENDAR
