BEGIN:VCALENDAR
VERSION:2.0
PRODID:-//ZContent.net//ZapCalLib 1.0//EN
CALSCALE:GREGORIAN
METHOD:PUBLISH
BEGIN:VEVENT
SUMMARY:Asylinitiativenkonferenz 2018 | Netzwerktagung // Asyl in Sachsen
DTSTART:20181110T093000
DTEND:20181110T163000
UID:2026-04-25-01-00-51-0-@calendar.boell.de
DTSTAMP:20260424T230051
DESCRIPTION:▶ Siehe Veranstaltungsbeschreibung – Dresden – Landesstif
 tung Sachsen (Weiterdenken)
END:VEVENT
END:VCALENDAR
