BEGIN:VCALENDAR
VERSION:2.0
PRODID:-//ZContent.net//ZapCalLib 1.0//EN
CALSCALE:GREGORIAN
METHOD:PUBLISH
BEGIN:VEVENT
SUMMARY:Ein Einwanderungsgesetz allein macht noch keinen Sommer...  | Was e
 s braucht, um Einwanderung nachhaltig zu gestalten
DTSTART:20181113T190000
DTEND:20181113T210000
UID:2026-04-26-04-41-04-0-@calendar.boell.de
DTSTAMP:20260426T024104
DESCRIPTION:▶ Siehe Veranstaltungsbeschreibung – Dresden – Landesstif
 tung Sachsen (Weiterdenken)
END:VEVENT
END:VCALENDAR
