BEGIN:VCALENDAR
VERSION:2.0
PRODID:-//ZContent.net//ZapCalLib 1.0//EN
CALSCALE:GREGORIAN
METHOD:PUBLISH
BEGIN:VEVENT
SUMMARY:7 Jahre nach dem Bekanntwerden der NSU-Verbrechen - Mehr Fragen als
  Antworten
DTSTART:20181106T180000
DTEND:20181106T203000
UID:2026-04-24-06-41-52-0-@calendar.boell.de
DTSTAMP:20260424T044152
DESCRIPTION:Berlin – Landesstiftung Berlin (Bildungswerk)
END:VEVENT
END:VCALENDAR
