BEGIN:VCALENDAR
VERSION:2.0
PRODID:-//ZContent.net//ZapCalLib 1.0//EN
CALSCALE:GREGORIAN
METHOD:PUBLISH
BEGIN:VEVENT
SUMMARY:THEATERGRUPPE BERLINER COMPAGNIE „DIE SEHNSUCHT NACH DEM FRÜHLIN
 G“ | mit Übersetzung in Gebärdensprache
DTSTART:20181022T180000
DTEND:20181022T220000
UID:2026-04-25-23-41-09-0-@calendar.boell.de
DTSTAMP:20260425T214109
DESCRIPTION:▶ Siehe Veranstaltungsbeschreibung – Braunschweig – Stift
 ung Leben & Umwelt / Heinrich-Böll-Stiftung Niedersachsen
END:VEVENT
END:VCALENDAR
